Package: Category Version: 2.72.0 Command: /home/biocbuild/bbs-3.20-bioc/R/bin/R CMD check --install=check:Category.install-out.txt --library=/home/biocbuild/bbs-3.20-bioc/R/site-library --timings Category_2.72.0.tar.gz StartedAt: 2025-03-31 20:30:05 -0400 (Mon, 31 Mar 2025) EndedAt: 2025-03-31 20:34:14 -0400 (Mon, 31 Mar 2025) EllapsedTime: 249.2 seconds RetCode: 0 Status: OK CheckDir: Category.Rcheck Warnings: 0