Package: CardinalIO Version: 1.4.0 Command: chmod a+r CardinalIO -R && F:\biocbuild\bbs-3.20-bioc\R\bin\R.exe CMD build --keep-empty-dirs --no-resave-data CardinalIO StartedAt: 2025-01-30 17:44:36 -0500 (Thu, 30 Jan 2025) EndedAt: 2025-01-30 17:45:30 -0500 (Thu, 30 Jan 2025) EllapsedTime: 53.9 seconds RetCode: 0 Status: OK PackageFile: CardinalIO_1.4.0.tar.gz PackageFileSize: 939.2 KiB