Package: CardinalIO Version: 1.4.0 Command: /Library/Frameworks/R.framework/Resources/bin/R CMD INSTALL CardinalIO StartedAt: 2025-01-30 15:48:25 -0500 (Thu, 30 Jan 2025) EndedAt: 2025-01-30 15:49:00 -0500 (Thu, 30 Jan 2025) EllapsedTime: 34.5 seconds RetCode: 0 Status: OK