Package: CardinalIO Version: 1.4.0 Command: rm -rf CardinalIO.buildbin-libdir && mkdir CardinalIO.buildbin-libdir && /Users/biocbuild/BBS/utils/build-universal.sh CardinalIO_1.4.0.tar.gz /Library/Frameworks/R.framework/Resources/bin/R CardinalIO.buildbin-libdir StartedAt: 2025-02-05 15:06:23 -0500 (Wed, 05 Feb 2025) EndedAt: 2025-02-05 15:06:43 -0500 (Wed, 05 Feb 2025) EllapsedTime: 20.3 seconds RetCode: 0 Status: OK PackageFile: CardinalIO_1.4.0.tgz PackageFileSize: 1.239 MiB