Package: Cardinal Version: 3.8.3 Command: /home/biocbuild/R/R/bin/R CMD check --install=check:Cardinal.install-out.txt --library=/home/biocbuild/R/R/site-library --no-vignettes --timings Cardinal_3.8.3.tar.gz StartedAt: 2025-04-01 04:45:34 -0000 (Tue, 01 Apr 2025) EndedAt: 2025-04-01 04:54:11 -0000 (Tue, 01 Apr 2025) EllapsedTime: 517.4 seconds RetCode: 0 Status: OK CheckDir: Cardinal.Rcheck Warnings: 0