Package: Cardinal Version: 3.8.3 Command: rm -rf Cardinal.buildbin-libdir && mkdir Cardinal.buildbin-libdir && F:\biocbuild\bbs-3.20-bioc\R\bin\R.exe CMD INSTALL --build --library=Cardinal.buildbin-libdir Cardinal_3.8.3.tar.gz StartedAt: 2025-01-28 07:47:48 -0500 (Tue, 28 Jan 2025) EndedAt: 2025-01-28 07:50:42 -0500 (Tue, 28 Jan 2025) EllapsedTime: 173.8 seconds RetCode: 0 Status: OK PackageFile: Cardinal_3.8.3.zip PackageFileSize: 3.368 MiB