Package: Cardinal Version: 3.8.3 Command: /Library/Frameworks/R.framework/Resources/bin/R CMD INSTALL Cardinal StartedAt: 2025-01-27 15:58:19 -0500 (Mon, 27 Jan 2025) EndedAt: 2025-01-27 15:59:21 -0500 (Mon, 27 Jan 2025) EllapsedTime: 62.2 seconds RetCode: 0 Status: OK