Package: Cardinal Version: 3.8.3 Command: /Library/Frameworks/R.framework/Resources/bin/R CMD build --keep-empty-dirs --no-resave-data Cardinal StartedAt: 2025-03-31 17:27:40 -0400 (Mon, 31 Mar 2025) EndedAt: 2025-03-31 17:44:29 -0400 (Mon, 31 Mar 2025) EllapsedTime: 1008.8 seconds RetCode: 0 Status: OK PackageFile: Cardinal_3.8.3.tar.gz PackageFileSize: 5.161 MiB