Package: Cardinal Version: 3.8.3 Command: rm -rf Cardinal.buildbin-libdir && mkdir Cardinal.buildbin-libdir && /Users/biocbuild/BBS/utils/build-universal.sh Cardinal_3.8.3.tar.gz /Library/Frameworks/R.framework/Resources/bin/R Cardinal.buildbin-libdir StartedAt: 2025-01-28 12:45:49 -0500 (Tue, 28 Jan 2025) EndedAt: 2025-01-28 12:46:58 -0500 (Tue, 28 Jan 2025) EllapsedTime: 69.1 seconds RetCode: 0 Status: OK PackageFile: Cardinal_3.8.3.tgz PackageFileSize: 6.646 MiB