Package: CaDrA Version: 1.4.0 Command: /Library/Frameworks/R.framework/Resources/bin/R CMD INSTALL CaDrA StartedAt: 2025-01-27 16:28:39 -0500 (Mon, 27 Jan 2025) EndedAt: 2025-01-27 16:29:09 -0500 (Mon, 27 Jan 2025) EllapsedTime: 30.1 seconds RetCode: 0 Status: OK