Package: CTdata Version: 1.6.0 Command: chmod a+r CTdata -R && F:\biocbuild\bbs-3.20-bioc\R\bin\R.exe CMD build --keep-empty-dirs --no-resave-data CTdata StartedAt: 2025-03-31 18:15:42 -0400 (Mon, 31 Mar 2025) EndedAt: 2025-03-31 18:27:52 -0400 (Mon, 31 Mar 2025) EllapsedTime: 730.3 seconds RetCode: 0 Status: OK PackageFile: CTdata_1.6.0.tar.gz PackageFileSize: 6.971 MiB