Package: CTdata Version: 1.6.0 Command: /Library/Frameworks/R.framework/Resources/bin/R CMD check --install=check:CTdata.install-out.txt --library=/Library/Frameworks/R.framework/Resources/library --no-vignettes --timings CTdata_1.6.0.tar.gz StartedAt: 2025-01-31 16:13:38 -0500 (Fri, 31 Jan 2025) EndedAt: 2025-01-31 16:15:42 -0500 (Fri, 31 Jan 2025) EllapsedTime: 123.1 seconds RetCode: 0 Status: OK CheckDir: CTdata.Rcheck Warnings: 0