Package: CTdata Version: 1.6.0 Command: /Library/Frameworks/R.framework/Resources/bin/R CMD build --keep-empty-dirs --no-resave-data CTdata StartedAt: 2025-01-30 21:49:47 -0500 (Thu, 30 Jan 2025) EndedAt: 2025-01-30 21:59:57 -0500 (Thu, 30 Jan 2025) EllapsedTime: 610.3 seconds RetCode: 0 Status: OK PackageFile: CTdata_1.6.0.tar.gz PackageFileSize: 6.97 MiB