Package: CTSV Version: 1.8.0 Command: F:\biocbuild\bbs-3.20-bioc\R\bin\R.exe CMD check --no-multiarch --install=check:CTSV.install-out.txt --library=F:\biocbuild\bbs-3.20-bioc\R\library --no-vignettes --timings CTSV_1.8.0.tar.gz StartedAt: 2025-04-01 00:31:35 -0400 (Tue, 01 Apr 2025) EndedAt: 2025-04-01 00:36:01 -0400 (Tue, 01 Apr 2025) EllapsedTime: 266.8 seconds RetCode: 0 Status: OK CheckDir: CTSV.Rcheck Warnings: 0