Package: CTSV Version: 1.8.0 Command: rm -rf CTSV.buildbin-libdir && mkdir CTSV.buildbin-libdir && /Users/biocbuild/BBS/utils/build-universal.sh CTSV_1.8.0.tar.gz /Library/Frameworks/R.framework/Resources/bin/R CTSV.buildbin-libdir StartedAt: 2025-01-31 12:37:18 -0500 (Fri, 31 Jan 2025) EndedAt: 2025-01-31 12:38:15 -0500 (Fri, 31 Jan 2025) EllapsedTime: 56.2 seconds RetCode: 0 Status: OK PackageFile: CTSV_1.8.0.tgz PackageFileSize: 320.7 KiB