Package: CTSV Version: 1.8.0 Command: /Library/Frameworks/R.framework/Resources/bin/R CMD build --keep-empty-dirs --no-resave-data CTSV StartedAt: 2025-01-27 21:47:56 -0500 (Mon, 27 Jan 2025) EndedAt: 2025-01-27 21:48:50 -0500 (Mon, 27 Jan 2025) EllapsedTime: 53.4 seconds RetCode: 0 Status: OK PackageFile: CTSV_1.8.0.tar.gz PackageFileSize: 303.3 KiB