Package: CSSQ Version: 1.18.0 Command: /home/biocbuild/bbs-3.20-bioc/R/bin/R CMD build --keep-empty-dirs --no-resave-data CSSQ StartedAt: 2024-11-19 18:21:19 -0500 (Tue, 19 Nov 2024) EndedAt: 2024-11-19 18:22:24 -0500 (Tue, 19 Nov 2024) EllapsedTime: 65.9 seconds RetCode: 0 Status: OK PackageFile: CSSQ_1.18.0.tar.gz PackageFileSize: 866 KiB