Package: CSSQ Version: 1.18.0 Command: /home/biocbuild/R/R/bin/R CMD INSTALL CSSQ StartedAt: 2025-03-31 20:30:53 -0000 (Mon, 31 Mar 2025) EndedAt: 2025-03-31 20:31:35 -0000 (Mon, 31 Mar 2025) EllapsedTime: 42.7 seconds RetCode: 0 Status: OK