Package: CSSQ Version: 1.18.0 Command: /Library/Frameworks/R.framework/Resources/bin/R CMD check --install=check:CSSQ.install-out.txt --library=/Library/Frameworks/R.framework/Resources/library --no-vignettes --timings CSSQ_1.18.0.tar.gz StartedAt: 2025-01-28 02:10:12 -0500 (Tue, 28 Jan 2025) EndedAt: 2025-01-28 02:20:14 -0500 (Tue, 28 Jan 2025) EllapsedTime: 602.1 seconds RetCode: 0 Status: OK CheckDir: CSSQ.Rcheck Warnings: 0