Package: CSAR Version: 1.58.0 Command: /Library/Frameworks/R.framework/Resources/bin/R CMD build --keep-empty-dirs --no-resave-data CSAR StartedAt: 2025-03-31 18:00:08 -0400 (Mon, 31 Mar 2025) EndedAt: 2025-03-31 18:01:02 -0400 (Mon, 31 Mar 2025) EllapsedTime: 54.1 seconds RetCode: 0 Status: OK PackageFile: CSAR_1.58.0.tar.gz PackageFileSize: 233.4 KiB