Package: CRImage Version: 1.54.0 Command: chmod a+r CRImage -R && F:\biocbuild\bbs-3.20-bioc\R\bin\R.exe CMD build --keep-empty-dirs --no-resave-data CRImage StartedAt: 2025-01-27 18:11:59 -0500 (Mon, 27 Jan 2025) EndedAt: 2025-01-27 18:12:36 -0500 (Mon, 27 Jan 2025) EllapsedTime: 36.9 seconds RetCode: 0 Status: OK PackageFile: CRImage_1.54.0.tar.gz PackageFileSize: 7.554 MiB