Package: CRImage Version: 1.54.0 Command: /home/biocbuild/bbs-3.20-bioc/R/bin/R CMD INSTALL CRImage StartedAt: 2025-02-03 15:55:05 -0500 (Mon, 03 Feb 2025) EndedAt: 2025-02-03 15:55:15 -0500 (Mon, 03 Feb 2025) EllapsedTime: 10.2 seconds RetCode: 0 Status: OK