Package: CRImage Version: 1.54.0 Command: /Library/Frameworks/R.framework/Resources/bin/R CMD INSTALL CRImage StartedAt: 2025-01-30 16:22:48 -0500 (Thu, 30 Jan 2025) EndedAt: 2025-01-30 16:23:12 -0500 (Thu, 30 Jan 2025) EllapsedTime: 24.1 seconds RetCode: 0 Status: OK