Package: CRImage Version: 1.54.0 Command: /Library/Frameworks/R.framework/Resources/bin/R CMD build --keep-empty-dirs --no-resave-data CRImage StartedAt: 2025-01-30 18:14:42 -0500 (Thu, 30 Jan 2025) EndedAt: 2025-01-30 18:15:43 -0500 (Thu, 30 Jan 2025) EllapsedTime: 61.3 seconds RetCode: 0 Status: OK PackageFile: CRImage_1.54.0.tar.gz PackageFileSize: 7.651 MiB