Package: CRImage Version: 1.54.0 Command: /Library/Frameworks/R.framework/Resources/bin/R CMD build --keep-empty-dirs --no-resave-data CRImage StartedAt: 2025-02-03 21:31:50 -0500 (Mon, 03 Feb 2025) EndedAt: 2025-02-03 21:32:21 -0500 (Mon, 03 Feb 2025) EllapsedTime: 31.3 seconds RetCode: 0 Status: OK PackageFile: CRImage_1.54.0.tar.gz PackageFileSize: 7.651 MiB