Package: CRImage Version: 1.54.0 Command: rm -rf CRImage.buildbin-libdir && mkdir CRImage.buildbin-libdir && /Users/biocbuild/BBS/utils/build-universal.sh CRImage_1.54.0.tar.gz /Library/Frameworks/R.framework/Resources/bin/R CRImage.buildbin-libdir StartedAt: 2025-01-29 14:12:50 -0500 (Wed, 29 Jan 2025) EndedAt: 2025-01-29 14:13:06 -0500 (Wed, 29 Jan 2025) EllapsedTime: 15.6 seconds RetCode: 0 Status: OK PackageFile: CRImage_1.54.0.tgz PackageFileSize: 6.549 MiB