Package: CRISPRseek Version: 1.46.0 Command: /Library/Frameworks/R.framework/Resources/bin/R CMD check --install=check:CRISPRseek.install-out.txt --library=/Library/Frameworks/R.framework/Resources/library --no-vignettes --timings CRISPRseek_1.46.0.tar.gz StartedAt: 2025-01-28 15:48:22 -0500 (Tue, 28 Jan 2025) EndedAt: 2025-01-28 16:28:23 -0500 (Tue, 28 Jan 2025) EllapsedTime: 2400.6 seconds RetCode: None Status: TIMEOUT CheckDir: CRISPRseek.Rcheck Warnings: NA