Package: CRISPRseek Version: 1.46.0 Command: /Library/Frameworks/R.framework/Resources/bin/R CMD build --keep-empty-dirs --no-resave-data CRISPRseek StartedAt: 2025-01-27 21:39:20 -0500 (Mon, 27 Jan 2025) EndedAt: 2025-01-27 21:43:23 -0500 (Mon, 27 Jan 2025) EllapsedTime: 242.7 seconds RetCode: 0 Status: OK PackageFile: CRISPRseek_1.46.0.tar.gz PackageFileSize: 10.74 MiB