Package: CRISPRseek Version: 1.46.0 Command: rm -rf CRISPRseek.buildbin-libdir && mkdir CRISPRseek.buildbin-libdir && /Users/biocbuild/BBS/utils/build-universal.sh CRISPRseek_1.46.0.tar.gz /Library/Frameworks/R.framework/Resources/bin/R CRISPRseek.buildbin-libdir StartedAt: 2025-01-29 14:13:48 -0500 (Wed, 29 Jan 2025) EndedAt: 2025-01-29 14:14:41 -0500 (Wed, 29 Jan 2025) EllapsedTime: 52.2 seconds RetCode: 0 Status: OK PackageFile: CRISPRseek_1.46.0.tgz PackageFileSize: 11 MiB