Package: COTAN Version: 2.6.2 Command: /home/biocbuild/R/R/bin/R CMD INSTALL COTAN StartedAt: 2025-01-27 21:56:23 -0000 (Mon, 27 Jan 2025) EndedAt: 2025-01-27 21:57:23 -0000 (Mon, 27 Jan 2025) EllapsedTime: 60.3 seconds RetCode: 0 Status: OK