Package: COTAN Version: 2.6.3 Command: F:\biocbuild\bbs-3.20-bioc\R\bin\R.exe CMD check --no-multiarch --install=check:COTAN.install-out.txt --library=F:\biocbuild\bbs-3.20-bioc\R\library --no-vignettes --timings COTAN_2.6.3.tar.gz StartedAt: 2025-03-28 00:40:36 -0400 (Fri, 28 Mar 2025) EndedAt: 2025-03-28 01:09:40 -0400 (Fri, 28 Mar 2025) EllapsedTime: 1744.7 seconds RetCode: 0 Status: OK CheckDir: COTAN.Rcheck Warnings: 0