Package: COTAN Version: 2.6.3 Command: rm -rf COTAN.buildbin-libdir && mkdir COTAN.buildbin-libdir && F:\biocbuild\bbs-3.20-bioc\R\bin\R.exe CMD INSTALL --build --library=COTAN.buildbin-libdir COTAN_2.6.3.tar.gz StartedAt: 2025-03-28 08:10:55 -0400 (Fri, 28 Mar 2025) EndedAt: 2025-03-28 08:12:40 -0400 (Fri, 28 Mar 2025) EllapsedTime: 104.4 seconds RetCode: 0 Status: OK PackageFile: COTAN_2.6.3.zip PackageFileSize: 7.406 MiB