Package: COTAN Version: 2.5.2 Command: chmod a+r COTAN -R && F:\biocbuild\bbs-3.20-bioc\R\bin\R.exe CMD build --keep-empty-dirs --no-resave-data COTAN StartedAt: 2024-06-09 18:09:12 -0400 (Sun, 09 Jun 2024) EndedAt: 2024-06-09 18:20:32 -0400 (Sun, 09 Jun 2024) EllapsedTime: 680.8 seconds RetCode: 0 Status: OK PackageFile: COTAN_2.5.2.tar.gz PackageFileSize: 4.258 MiB