Package: COTAN Version: 2.6.1 Command: /Library/Frameworks/R.framework/Resources/bin/R CMD build --keep-empty-dirs --no-resave-data COTAN StartedAt: 2024-11-19 16:25:41 -0500 (Tue, 19 Nov 2024) EndedAt: 2024-11-19 16:36:37 -0500 (Tue, 19 Nov 2024) EllapsedTime: 655.7 seconds RetCode: 0 Status: OK PackageFile: COTAN_2.6.1.tar.gz PackageFileSize: 10.53 MiB