Package: COTAN Version: 2.6.2 Command: /Library/Frameworks/R.framework/Resources/bin/R CMD INSTALL COTAN StartedAt: 2025-01-27 17:50:02 -0500 (Mon, 27 Jan 2025) EndedAt: 2025-01-27 17:50:57 -0500 (Mon, 27 Jan 2025) EllapsedTime: 55.2 seconds RetCode: 0 Status: OK