Package: COTAN Version: 2.6.2 Command: /Library/Frameworks/R.framework/Resources/bin/R CMD build --keep-empty-dirs --no-resave-data COTAN StartedAt: 2025-01-27 21:33:26 -0500 (Mon, 27 Jan 2025) EndedAt: 2025-01-27 21:47:13 -0500 (Mon, 27 Jan 2025) EllapsedTime: 827.5 seconds RetCode: 0 Status: OK PackageFile: COTAN_2.6.2.tar.gz PackageFileSize: 10.6 MiB