Package: COSNet Version: 1.40.0 Command: /home/biocbuild/R/R/bin/R CMD check --install=check:COSNet.install-out.txt --library=/home/biocbuild/R/R/site-library --no-vignettes --timings COSNet_1.40.0.tar.gz StartedAt: 2025-01-31 05:13:45 -0000 (Fri, 31 Jan 2025) EndedAt: 2025-01-31 05:14:16 -0000 (Fri, 31 Jan 2025) EllapsedTime: 31.0 seconds RetCode: 0 Status: WARNINGS CheckDir: COSNet.Rcheck Warnings: 1