Package: COSNet Version: 1.40.0 Command: F:\biocbuild\bbs-3.20-bioc\R\bin\R.exe CMD check --no-multiarch --install=check:COSNet.install-out.txt --library=F:\biocbuild\bbs-3.20-bioc\R\library --no-vignettes --timings COSNet_1.40.0.tar.gz StartedAt: 2025-01-28 00:25:33 -0500 (Tue, 28 Jan 2025) EndedAt: 2025-01-28 00:26:26 -0500 (Tue, 28 Jan 2025) EllapsedTime: 53.4 seconds RetCode: 0 Status: WARNINGS CheckDir: COSNet.Rcheck Warnings: 1