Package: COSNet Version: 1.40.0 Command: rm -rf COSNet.buildbin-libdir && mkdir COSNet.buildbin-libdir && F:\biocbuild\bbs-3.20-bioc\R\bin\R.exe CMD INSTALL --build --library=COSNet.buildbin-libdir COSNet_1.40.0.tar.gz StartedAt: 2025-01-28 07:56:02 -0500 (Tue, 28 Jan 2025) EndedAt: 2025-01-28 07:56:12 -0500 (Tue, 28 Jan 2025) EllapsedTime: 10.4 seconds RetCode: 0 Status: OK PackageFile: COSNet_1.40.0.zip PackageFileSize: 332.5 KiB