Package: COSNet Version: 1.40.0 Command: /Library/Frameworks/R.framework/Resources/bin/R CMD INSTALL COSNet StartedAt: 2025-01-27 15:11:45 -0500 (Mon, 27 Jan 2025) EndedAt: 2025-01-27 15:12:08 -0500 (Mon, 27 Jan 2025) EllapsedTime: 23.3 seconds RetCode: 0 Status: OK