Package: COSNet Version: 1.40.0 Command: /Library/Frameworks/R.framework/Resources/bin/R CMD check --install=check:COSNet.install-out.txt --library=/Library/Frameworks/R.framework/Resources/library --no-vignettes --timings COSNet_1.40.0.tar.gz StartedAt: 2025-04-01 01:17:55 -0400 (Tue, 01 Apr 2025) EndedAt: 2025-04-01 01:18:58 -0400 (Tue, 01 Apr 2025) EllapsedTime: 62.8 seconds RetCode: 0 Status: WARNINGS CheckDir: COSNet.Rcheck Warnings: 1