Package: COSNet Version: 1.40.0 Command: rm -rf COSNet.buildbin-libdir && mkdir COSNet.buildbin-libdir && /Users/biocbuild/BBS/utils/build-universal.sh COSNet_1.40.0.tar.gz /Library/Frameworks/R.framework/Resources/bin/R COSNet.buildbin-libdir StartedAt: 2025-01-28 12:53:41 -0500 (Tue, 28 Jan 2025) EndedAt: 2025-01-28 12:53:50 -0500 (Tue, 28 Jan 2025) EllapsedTime: 8.5 seconds RetCode: 0 Status: OK PackageFile: COSNet_1.40.0.tgz PackageFileSize: 560.4 KiB