Package: CONSTANd Version: 1.14.0 Command: /home/biocbuild/R/R/bin/R CMD check --install=check:CONSTANd.install-out.txt --library=/home/biocbuild/R/R/site-library --no-vignettes --timings CONSTANd_1.14.0.tar.gz StartedAt: 2025-01-31 05:09:57 -0000 (Fri, 31 Jan 2025) EndedAt: 2025-01-31 05:10:11 -0000 (Fri, 31 Jan 2025) EllapsedTime: 14.0 seconds RetCode: 0 Status: OK CheckDir: CONSTANd.Rcheck Warnings: 0