Package: CONFESS Version: 1.34.0 Command: F:\biocbuild\bbs-3.20-bioc\R\bin\R.exe CMD INSTALL CONFESS StartedAt: 2025-01-27 16:41:22 -0500 (Mon, 27 Jan 2025) EndedAt: 2025-01-27 16:42:42 -0500 (Mon, 27 Jan 2025) EllapsedTime: 79.9 seconds RetCode: 0 Status: OK