Package: CONFESS Version: 1.34.0 Command: /home/biocbuild/bbs-3.20-bioc/R/bin/R CMD INSTALL CONFESS StartedAt: 2025-01-27 16:38:18 -0500 (Mon, 27 Jan 2025) EndedAt: 2025-01-27 16:39:15 -0500 (Mon, 27 Jan 2025) EllapsedTime: 57.4 seconds RetCode: 0 Status: OK