Package: CONFESS Version: 1.34.0 Command: /Library/Frameworks/R.framework/Resources/bin/R CMD build --keep-empty-dirs --no-resave-data CONFESS StartedAt: 2025-01-27 18:04:26 -0500 (Mon, 27 Jan 2025) EndedAt: 2025-01-27 18:11:37 -0500 (Mon, 27 Jan 2025) EllapsedTime: 431.5 seconds RetCode: 0 Status: OK PackageFile: CONFESS_1.34.0.tar.gz PackageFileSize: 3.588 MiB