Package: CONFESS Version: 1.34.0 Command: rm -rf CONFESS.buildbin-libdir && mkdir CONFESS.buildbin-libdir && /Users/biocbuild/BBS/utils/build-universal.sh CONFESS_1.34.0.tar.gz /Library/Frameworks/R.framework/Resources/bin/R CONFESS.buildbin-libdir StartedAt: 2024-11-09 16:43:40 -0500 (Sat, 09 Nov 2024) EndedAt: 2024-11-09 16:44:03 -0500 (Sat, 09 Nov 2024) EllapsedTime: 22.4 seconds RetCode: 0 Status: OK PackageFile: CONFESS_1.34.0.tgz PackageFileSize: 3.13 MiB