Package: CODEX Version: 1.38.0 Command: F:\biocbuild\bbs-3.20-bioc\R\bin\R.exe CMD check --no-multiarch --install=check:CODEX.install-out.txt --library=F:\biocbuild\bbs-3.20-bioc\R\library --no-vignettes --timings CODEX_1.38.0.tar.gz StartedAt: 2025-01-28 00:14:57 -0500 (Tue, 28 Jan 2025) EndedAt: 2025-01-28 00:20:04 -0500 (Tue, 28 Jan 2025) EllapsedTime: 306.8 seconds RetCode: 0 Status: OK CheckDir: CODEX.Rcheck Warnings: 0