Package: CODEX Version: 1.38.0 Command: /home/biocbuild/R/R/bin/R CMD check --install=check:CODEX.install-out.txt --library=/home/biocbuild/R/R/site-library --no-vignettes --timings CODEX_1.38.0.tar.gz StartedAt: 2024-11-20 06:26:56 -0000 (Wed, 20 Nov 2024) EndedAt: 2024-11-20 06:32:36 -0000 (Wed, 20 Nov 2024) EllapsedTime: 340.6 seconds RetCode: 0 Status: OK CheckDir: CODEX.Rcheck Warnings: 0