Package: CODEX Version: 1.38.0 Command: /Library/Frameworks/R.framework/Resources/bin/R CMD build --keep-empty-dirs --no-resave-data CODEX StartedAt: 2025-03-31 21:06:50 -0400 (Mon, 31 Mar 2025) EndedAt: 2025-03-31 21:08:49 -0400 (Mon, 31 Mar 2025) EllapsedTime: 119.5 seconds RetCode: 0 Status: OK PackageFile: CODEX_1.38.0.tar.gz PackageFileSize: 913.5 KiB